BEGIN:VCALENDAR
VERSION:2.0
PRODID:-//ChamberMaster//Event Calendar 2.0//EN
METHOD:PUBLISH
X-PUBLISHED-TTL:P3D
REFRESH-INTERVAL:P3D
CALSCALE:GREGORIAN
BEGIN:VEVENT
DTSTART:20191012T160000Z
DTEND:20191012T210000Z
X-MICROSOFT-CDO-ALLDAYEVENT:FALSE
SUMMARY:10th Annual Italian Wine & Food Festival at Simpatico
DESCRIPTION:Simpatico\, Italy's Finest celebrates Italian Wine\, Food & Columbus Weekend with the 10th Annual "Simpatico Italian Wine & Food Festival at St. Michaels MD" of Italian Wine\, Spirits\, Liqueurs\, Food\, Music & Games on the Saturday of the Columbus Holiday weekend on October 12th from Noon to 5 PM.  The event will be held rain or shine in the tented lot "piazza" adjacent to Simpatico at 104 Railroad Ave. Stop by and transport yourself to Italy! \n\n \n\nThis not-to-be-missed event will feature the following activities to the public at a cost of $35 per person in advance\, $40 at door\, kids free: \n\n	Italian Wine & Spirits Tastings of over 70 wines\, Limoncello\, Spirits\, Liqueurs\, Prosecco\, Bellinis\, Amalfi Coast Liqueurs! \n	Italian Food Served throughout the Afternoon including Cipriani Pasta with Wild Boar Sauce\, Antipasti\, Pates\, Pestos\, Truffle products\, Olive Oils\, Balsamics\, Chicken Pesto\, Caponata\, Rice Salad\, Orange Olive Oil Cake & more! \n	Wonderful Artisan Cheese Tastings of Cow\, Sheep & Goat cheeses directly flown in from Italy every 2 weeks. \n	Live Italian Music   with Sergio playing your favorite Italian songs on his Accordion!! \n	Italian Trivia\, Bocce Ball & Pasta Game   Answer all the questions and you win a bottle of wine! \n	Meet Columbus and hear about his adventures in exploration\, and have your picture taken with him!  \n	Special pricing promotions for wines and other items in the shop.  \n\n Simpatico is excited to continue to bring this event to the community\; Bobbi Parlett\, owner of Simpatico\, comments "Everyone has such a good time at this fun annual event\, it is like being in a piazza in Italy for the afternoon\, and combines so many things we love   food\, wine\, music\, history\, games for all ages\, and fun."   \n\n \n\nTo purchase tickets\, go to Events on www.simpaticostmichaels.com\, or localwineevents.com or call 410-745-0345. Saluti!
X-ALT-DESC;FMTTYPE=text/html:<span style="font-family:palatino linotype\,serif"><span style="font-size:11.0pt">Simpatico\, Italy&rsquo\;s Finest celebrates Italian Wine\, Food &amp\; Columbus Weekend with the 10th Annual &ldquo\;Simpatico Italian Wine &amp\; Food Festival at St. Michaels MD&rdquo\; of Italian Wine\, Spirits\, Liqueurs\, Food\, Music &amp\; Games on the Saturday of the Columbus Holiday weekend on October 12<sup>th</sup> from Noon to 5 PM.&nbsp\; The event will be held rain or shine in the tented lot &ldquo\;piazza&rdquo\; adjacent to Simpatico at 104 Railroad Ave. </span></span><span style="font-family:palatino linotype\,serif"><span style="font-size:11.0pt">Stop by and transport yourself to Italy! </span></span><br />\n&nbsp\;<br />\n<span style="font-family:palatino linotype\,serif"><span style="font-size:11.0pt">This not-to-be-missed event will feature the following activities to the public at a cost of $35 per person in advance\, $40 at door\, kids free: </span></span>\n<ul>\n	<li><strong><span style="font-family:palatino linotype\,serif"><span style="font-size:11.0pt">Italian Wine &amp\; Spirits Tastings</span></span></strong><span style="font-family:palatino linotype\,serif"><span style="font-size:11.0pt"> of over 70 wines\, Limoncello\, Spirits\, Liqueurs\, Prosecco\, Bellinis\, Amalfi Coast Liqueurs! </span></span></li>\n	<li><strong><span style="font-family:palatino linotype\,serif"><span style="font-size:11.0pt">Italian Food Served throughout the Afternoon</span></span></strong><span style="font-family:palatino linotype\,serif"><span style="font-size:11.0pt">&nbsp\;including Cipriani Pasta with Wild Boar Sauce\, Antipasti\, Pates\, Pestos\, Truffle products\, Olive Oils\, Balsamics\, Chicken Pesto\, Caponata\, Rice Salad\, Orange Olive Oil Cake &amp\; more! </span></span></li>\n	<li><strong><span style="font-family:palatino linotype\,serif"><span style="font-size:11.0pt">Wonderful Artisan Cheese Tastings of Cow\, Sheep &amp\; Goat cheeses </span></span></strong><span style="font-family:palatino linotype\,serif"><span style="font-size:11.0pt">directly flown in from Italy every 2 weeks. </span></span></li>\n	<li><strong><span style="color:black"><span style="font-family:palatino linotype\,serif"><span style="font-size:11.0pt">Live Italian Music &ndash\; with Sergio </span></span></span></strong><span style="color:black"><span style="font-family:palatino linotype\,serif"><span style="font-size:11.0pt">playing your favorite Italian songs on his Accordion!! </span></span></span></li>\n	<li><strong><span style="font-family:palatino linotype\,serif"><span style="font-size:11.0pt">Italian Trivia\, Bocce Ball &amp\; Pasta Game &ndash\; A</span></span></strong><span style="font-family:palatino linotype\,serif"><span style="font-size:11.0pt">nswer all the questions and you win a bottle of wine! </span></span></li>\n	<li><strong><span style="font-family:palatino linotype\,serif"><span style="font-size:11.0pt">Meet Columbus</span></span></strong><span style="font-family:palatino linotype\,serif"><span style="font-size:11.0pt"> and hear about his adventures in exploration\, and have your picture taken with him! &nbsp\;</span></span></li>\n	<li><strong><span style="font-family:palatino linotype\,serif"><span style="font-size:11.0pt">Special pricing promotions</span></span></strong><span style="font-family:palatino linotype\,serif"><span style="font-size:11.0pt"> for wines and other items in the shop. &nbsp\;</span></span></li>\n</ul>\n<span style="font-family:palatino linotype\,serif"><span style="font-size:11.0pt">&nbsp\;Simpatico is excited to continue to bring this event to the community\; Bobbi Parlett\, owner of Simpatico\, comments &ldquo\;Everyone has such a good time at this fun annual event\, it is like being in a piazza in Italy for the afternoon\, and combines so many things we love &ndash\; food\, wine\, music\, history\, games for all ages\, and fun.&ldquo\; &nbsp\;&nbsp\;</span></span><br />\n&nbsp\;<br />\n<span style="font-family:palatino linotype\,serif"><span style="font-size:11.0pt">To purchase tickets\, go to Events on <u><span style="color:blue"><a href="http://www.simpaticostmichaels.com/">www.simpaticostmichaels.com</a>\,</span></u> or localwineevents.com or call <a href="tel:410-745-0345">410-745-0345</a>. Saluti!</span></span><br />\n&nbsp\;
LOCATION:Simpatico\, Italy's Finest 104-106 Railroad Ave under Tents St. Michaels\, MD 21663
UID:e.212.19352
SEQUENCE:3
DTSTAMP:20260425T234815Z
URL:https://www.stmichaelsmd.org/events/details/10th-annual-italian-wine-food-festival-at-simpatico-19352
END:VEVENT

END:VCALENDAR
