BEGIN:VCALENDAR
VERSION:2.0
PRODID:-//ChamberMaster//Event Calendar 2.0//EN
METHOD:PUBLISH
X-PUBLISHED-TTL:P3D
REFRESH-INTERVAL:P3D
CALSCALE:GREGORIAN
BEGIN:VEVENT
DTSTART:20221029T200000Z
DTEND:20221030T020000Z
X-MICROSOFT-CDO-ALLDAYEVENT:FALSE
SUMMARY:3rd Annual Photo Scavenger Hunt @ Foxy's
DESCRIPTION:Join Foxy's Harbor Grille for their 3rd annual Halloween themed photo scavenger hunt!\n\nDownloading Instagram is REQUIRED to compete!\n\n+ Team Registration starts @ 3:30\n\n(Late registration is acceptable!)\n\n+ Collect your scavenger hunt list\n\n+ You'll have 3 hours to complete the hunt (4-7)\n\n+ Return back to Foxy's at anytime to grab your favorite brew & bite\n\n+ DJ Shannon will start spinning @7\n\n+ Contest winners will be announced shortly afterwards\n\n+ ALL photos will be displayed @ Foxy's!\n\n+ Games\n\n+ Specialty Drinks\n\n+ Lets party!
X-ALT-DESC;FMTTYPE=text/html:<span style="background-color:rgb(255\, 255\, 255)\; color:rgb(5\, 5\, 5)\; font-family:segoe ui historic\,segoe ui\,helvetica\,arial\,sans-serif\; font-size:15px">Join Foxy&#39\;s Harbor Grille for their 3rd annual Halloween themed photo scavenger hunt!</span><br />\n<span style="background-color:rgb(255\, 255\, 255)\; color:rgb(5\, 5\, 5)\; font-family:segoe ui historic\,segoe ui\,helvetica\,arial\,sans-serif\; font-size:15px">Downloading Instagram is REQUIRED to compete!</span><br />\n<span style="background-color:rgb(255\, 255\, 255)\; color:rgb(5\, 5\, 5)\; font-family:segoe ui historic\,segoe ui\,helvetica\,arial\,sans-serif\; font-size:15px">+ Team Registration starts @ 3:30</span><br />\n<span style="background-color:rgb(255\, 255\, 255)\; color:rgb(5\, 5\, 5)\; font-family:segoe ui historic\,segoe ui\,helvetica\,arial\,sans-serif\; font-size:15px">(Late registration is acceptable!)</span><br />\n<span style="background-color:rgb(255\, 255\, 255)\; color:rgb(5\, 5\, 5)\; font-family:segoe ui historic\,segoe ui\,helvetica\,arial\,sans-serif\; font-size:15px">+ Collect your scavenger hunt list</span><br />\n<span style="background-color:rgb(255\, 255\, 255)\; color:rgb(5\, 5\, 5)\; font-family:segoe ui historic\,segoe ui\,helvetica\,arial\,sans-serif\; font-size:15px">+ You&#39\;ll have 3 hours to complete the hunt (4-7)</span><br />\n<span style="background-color:rgb(255\, 255\, 255)\; color:rgb(5\, 5\, 5)\; font-family:segoe ui historic\,segoe ui\,helvetica\,arial\,sans-serif\; font-size:15px">+ Return back to Foxy&#39\;s at anytime to grab your favorite brew &amp\; bite</span><br />\n<span style="background-color:rgb(255\, 255\, 255)\; color:rgb(5\, 5\, 5)\; font-family:segoe ui historic\,segoe ui\,helvetica\,arial\,sans-serif\; font-size:15px">+ DJ Shannon will start spinning @7</span><br />\n<span style="background-color:rgb(255\, 255\, 255)\; color:rgb(5\, 5\, 5)\; font-family:segoe ui historic\,segoe ui\,helvetica\,arial\,sans-serif\; font-size:15px">+ Contest winners will be announced shortly afterwards</span><br />\n<span style="background-color:rgb(255\, 255\, 255)\; color:rgb(5\, 5\, 5)\; font-family:segoe ui historic\,segoe ui\,helvetica\,arial\,sans-serif\; font-size:15px">+ ALL photos will be displayed @ Foxy&#39\;s!</span><br />\n<span style="background-color:rgb(255\, 255\, 255)\; color:rgb(5\, 5\, 5)\; font-family:segoe ui historic\,segoe ui\,helvetica\,arial\,sans-serif\; font-size:15px">+ Games</span><br />\n<span style="background-color:rgb(255\, 255\, 255)\; color:rgb(5\, 5\, 5)\; font-family:segoe ui historic\,segoe ui\,helvetica\,arial\,sans-serif\; font-size:15px">+ Specialty Drinks</span><br />\n<span style="background-color:rgb(255\, 255\, 255)\; color:rgb(5\, 5\, 5)\; font-family:segoe ui historic\,segoe ui\,helvetica\,arial\,sans-serif\; font-size:15px">+ Lets party!</span>
LOCATION:St. Michaels
UID:e.212.22513
SEQUENCE:3
DTSTAMP:20260423T152337Z
URL:https://www.stmichaelsmd.org/events/details/3rd-annual-photo-scavenger-hunt-foxy-s-22513
END:VEVENT

END:VCALENDAR
