BEGIN:VCALENDAR
VERSION:2.0
PRODID:-//ChamberMaster//Event Calendar 2.0//EN
METHOD:PUBLISH
X-PUBLISHED-TTL:P3D
REFRESH-INTERVAL:P3D
CALSCALE:GREGORIAN
BEGIN:VEVENT
DTSTART;VALUE=DATE:20220201
DTEND;VALUE=DATE:20220301
TRANSP:TRANSPARENT
X-MICROSOFT-CDO-ALLDAYEVENT:TRUE
SUMMARY:A Winter Romance in St. Michaels
DESCRIPTION:A Winter Romance in St. Michaels and Tilghman Island will be held throughout the month of February.  Visiting St. Michaels during the Winter is the perfect time for a romantic getaway\, especially around Valentine's Day.\n\nParticipating lodging partners are embracing "A Winter's Romance" and offering their guests romance packages.  Restaurants will offer a variety of tantalizing dishes during the event\, focusing on tempting your taste buds with special menu items.  St. Michaels boutiques\, jewelry and gift shops are also offering our visitors a unique shopping experience during A Winter Romance in St. Michaels.
X-ALT-DESC;FMTTYPE=text/html:A Winter Romance in St. Michaels and Tilghman Island will be held throughout the month of February.&nbsp\; Visiting St. Michaels during the Winter is the perfect time for a romantic getaway\, especially around Valentine&#39\;s Day.<br />\nParticipating lodging partners are embracing &quot\;A Winter&#39\;s Romance&quot\; and offering their guests romance packages. &nbsp\;Restaurants will offer a variety of tantalizing dishes during the event\, focusing on tempting your taste buds with special menu items. &nbsp\;St. Michaels boutiques\, jewelry and gift shops are also offering our visitors a unique shopping experience during A Winter Romance in St. Michaels.
LOCATION:
UID:e.212.13083
SEQUENCE:3
DTSTAMP:20260421T015624Z
URL:https://www.stmichaelsmd.org/events/details/a-winter-romance-in-st-michaels-13083
END:VEVENT

END:VCALENDAR
