BEGIN:VCALENDAR
VERSION:2.0
PRODID:-//ChamberMaster//Event Calendar 2.0//EN
METHOD:PUBLISH
X-PUBLISHED-TTL:P3D
REFRESH-INTERVAL:P3D
CALSCALE:GREGORIAN
BEGIN:VEVENT
DTSTART:20190720T170000Z
DTEND:20190720T190000Z
X-MICROSOFT-CDO-ALLDAYEVENT:FALSE
SUMMARY:Book signing at Ophiuroidea with Mary McCarthy\, local author
DESCRIPTION:Join Ophiuroidea on Saturday\, July 20th from 1pm - 3pm for a book signing with local best selling author\, Mary McCarthy.   "I Sea\, A Beachcombing Treasure Hunt" is Mary's first children's book. $15 while supplies last\n\n\n\nAbout the Book:\n\n"I Sea: A Beachcombing Treasure Hunt" helps promote beach conservation through fun riddles and colorful images of actual beach finds from around the world. Looking for the hidden beach trash and treasures on each page this picture book is designed to inspire you to continue to find and pick up treasures on your own beach\, lake\, park\, river\, or neighborhood. This book is for all those who enjoy hunting coastlines at any age and appreciate the joy of the search as much as the joy of discovery. Each color is represented by a collection of marine debris collected on beaches around the world. \n\nIt's a great way to encourage friends and family to take care of our world.
X-ALT-DESC;FMTTYPE=text/html:Join Ophiuroidea on Saturday\, July 20th from 1pm - 3pm for a book signing with local best selling author\, Mary McCarthy.&nbsp\; &nbsp\;&quot\;I Sea\, A Beachcombing Treasure Hunt&quot\; is Mary&#39\;s first children&#39\;s book.&nbsp\;<span style="color:rgb(34\, 34\, 34)\; font-family:graphik webfont\,-apple-system\,blinkmacsystemfont\,roboto\,droid sans\,segoe ui\,helvetica\,arial\,sans-serif\; font-size:14px">$15 while supplies last</span><br />\n<br />\nAbout the Book:<br />\n<span style="color:rgb(34\, 34\, 34)\; font-family:graphik webfont\,-apple-system\,blinkmacsystemfont\,roboto\,droid sans\,segoe ui\,helvetica\,arial\,sans-serif\; font-size:14px">&quot\;I Sea: A Beachcombing Treasure Hunt&quot\; helps promote beach conservation through fun riddles and colorful images of actual beach finds from around the world. Looking for the hidden beach trash and treasures on each page this picture book is designed to inspire you to continue to find and pick up treasures on your own beach\, lake\, park\, river\, or neighborhood. This book is for all those who enjoy hunting coastlines at any age and appreciate the joy of the search as much as the joy of discovery. Each color is represented by a collection of marine debris collected on beaches around the world.&nbsp\;</span><br />\n<span style="color:rgb(34\, 34\, 34)\; font-family:graphik webfont\,-apple-system\,blinkmacsystemfont\,roboto\,droid sans\,segoe ui\,helvetica\,arial\,sans-serif\; font-size:14px">It&#39\;s a great way to encourage friends and family to take care of our world.&nbsp\; </span><br />\n<br />\n&nbsp\;
LOCATION:Ophiuroidea 100 S. Talbot Street St. Michaels\, MD 21663
UID:e.212.19342
SEQUENCE:3
DTSTAMP:20260421T174005Z
URL:https://www.stmichaelsmd.org/events/details/book-signing-at-ophiuroidea-with-mary-mccarthy-local-author-19342
END:VEVENT

END:VCALENDAR
