BEGIN:VCALENDAR
VERSION:2.0
PRODID:-//ChamberMaster//Event Calendar 2.0//EN
METHOD:PUBLISH
X-PUBLISHED-TTL:P3D
REFRESH-INTERVAL:P3D
CALSCALE:GREGORIAN
BEGIN:VEVENT
DTSTART:20220416T130000Z
DTEND:20220416T160000Z
X-MICROSOFT-CDO-ALLDAYEVENT:FALSE
SUMMARY:Breakfast with the Easter Bunny
DESCRIPTION:Breakfast with the Easter Bunny\n\nThe Easter Bunny is coming to town and he's paying a very special visit to The Galley Restaurant. Secure your reservation today and make this Easter one to remember!\n\n\n\nJoin the Easter Bunny on April 16th at The Galley Restaurant's classic Breakfast with the Easter Bunny experience. Guests are invited to feast on The Galley's delicious menu offerings like Belgian waffles\, pancakes\, biscuits and gravy\, crab cakes benedict\, crispy bacon\, donuts\, and house made baked goods while listening to their favorite festive tunes. Adults are welcome to sip on bottomless mimosas while little ones are treated to a cookies and candy station and steaming cups of hot chocolate from the cocoa cart. Each child will be escorted from their table to meet with the Easter Bunny. (no lines\, no hassle)\n\n\n\nMake your reservation today to enjoy this Easter tradition that is sure to put a smile on every child's face and make memories that will last a lifetime.\n\n\nOnce we receive your online reservation request. we will contact you within 24 hours for reservation confirmation. All reservations require full payment due to limited seating and social distancing.\n\n \nPricing\n\nKids $18\n\nAdults $36
X-ALT-DESC;FMTTYPE=text/html:<div style="text-align: center\;"><span style="color:#800080"><strong><span style="font-size:18px">Breakfast with the Easter Bunny</span></strong></span><br />\n<strong><span style="color:#EE82EE"><span style="font-family:lucida grande\,lucida sans unicode\,tahoma\,sans-serif\; font-size:12.35px">The Easter Bunny is coming to town and he&rsquo\;s paying a very special visit to The Galley Restaurant. Secure your reservation today and make this Easter one to remember!</span><br />\n<br />\n<span style="font-family:lucida grande\,lucida sans unicode\,tahoma\,sans-serif\; font-size:12.35px">Join the Easter Bunny on April 16th at The Galley Restaurant&rsquo\;s classic Breakfast with the Easter Bunny experience. Guests are invited to feast on The Galley&rsquo\;s delicious menu offerings like Belgian waffles\, pancakes\, biscuits and gravy\, crab cakes benedict\, crispy bacon\, donuts\, and house made baked goods while listening to their favorite festive tunes. Adults are welcome to sip on bottomless mimosas while little ones are treated to a cookies and candy station and steaming cups of hot chocolate from the cocoa cart. Each child will be escorted from their table to meet with the Easter Bunny. (no lines\, no hassle)</span><br />\n<br />\n<span style="font-family:lucida grande\,lucida sans unicode\,tahoma\,sans-serif\; font-size:12.35px">Make your reservation today to enjoy this Easter tradition that is sure to put a smile on every child&rsquo\;s face and make memories that will last a lifetime.</span></span></strong></div>\n<br />\n<strong><span style="color:#EE82EE"><span style="font-family:lucida grande\,lucida sans unicode\,tahoma\,sans-serif\; font-size:12.35px">Once we receive your online reservation request. we will contact you within 24 hours for reservation confirmation. All reservations require full payment due to limited seating and social distancing.</span></span></strong><br />\n&nbsp\;\n<div style="text-align: center\;"><strong><span style="color:#EE82EE"><span style="font-family:lucida grande\,lucida sans unicode\,tahoma\,sans-serif\; font-size:12.35px">Pricing</span><br />\n<span style="font-family:lucida grande\,lucida sans unicode\,tahoma\,sans-serif\; font-size:12.35px">Kids $18</span></span></strong></div>\n\n<div style="text-align: center\;"><strong><span style="color:#EE82EE"><span style="font-family:lucida grande\,lucida sans unicode\,tahoma\,sans-serif\; font-size:12.35px">Adults $36</span></span></strong></div>\n
LOCATION:The Galley Restaurant & Bar Located in the HEART of St. Michaels 305 S. Talbot St | Saint Michaels | MD 21663 Dine In - Take Out - Delivery - Catering - Private Events www.thegalleysaintmichaels.com
UID:e.212.20832
SEQUENCE:3
DTSTAMP:20260424T003440Z
URL:https://www.stmichaelsmd.org/events/details/breakfast-with-the-easter-bunny-20832
END:VEVENT

END:VCALENDAR
