BEGIN:VCALENDAR
VERSION:2.0
PRODID:-//ChamberMaster//Event Calendar 2.0//EN
METHOD:PUBLISH
X-PUBLISHED-TTL:P3D
REFRESH-INTERVAL:P3D
CALSCALE:GREGORIAN
BEGIN:VEVENT
DTSTART:20220724T200000Z
DTEND:20220724T230000Z
X-MICROSOFT-CDO-ALLDAYEVENT:FALSE
SUMMARY:Dave Hawkins\, LIVE @ Foxy's !
DESCRIPTION:Sunday Funday's are just a little bit sweeter when you have a talented musician like Dave around! We love Dave && know that you will too!
X-ALT-DESC;FMTTYPE=text/html:Sunday Funday&#39\;s are just a little bit sweeter when you have a talented musician like Dave around! We love Dave &amp\;&amp\; know that you will too!
LOCATION:Foxy's Harbor Grille
UID:e.212.21720
SEQUENCE:3
DTSTAMP:20260423T195533Z
URL:https://www.stmichaelsmd.org/events/details/dave-hawkins-live-foxy-s-21720
END:VEVENT

END:VCALENDAR
