BEGIN:VCALENDAR
VERSION:2.0
PRODID:-//ChamberMaster//Event Calendar 2.0//EN
METHOD:PUBLISH
X-PUBLISHED-TTL:P3D
REFRESH-INTERVAL:P3D
CALSCALE:GREGORIAN
BEGIN:VEVENT
DTSTART:20210904T163000Z
DTEND:20210904T203000Z
X-MICROSOFT-CDO-ALLDAYEVENT:FALSE
SUMMARY:Free Wine Tasting with Russ Lorber of Wide Roots\, LLC
DESCRIPTION:Join us in our outdoor courtyard Saturday September 4th as we introduce to you to new wines from Venetian Hill\, Valtellina\, Sardinia and Puglia Regions of Italy. Come meet Russ Lorber\, Importer & Founder\, Wide Roots\, as we visit these regions with fabulous wines for you to taste.\n\nAbout the wines\, taste any 3:\n\nVenetian Hills Asolo Prosecco Superiore DOCG: Intense characters from sunny hillside vines. Light\, lemon color with minute bubbles\, aromas of citrus fruits and flowers. A crisp\, fresh Prosecco with a balanced complexity and a delicate finish. Best enjoyed with a light fare or while relaxing.\n\nPietro Nera "La Novella" Nebbiolo Bianco 2019 Alpi Retiche IGT: White wine from Nebbiolo? Certainly! This blend of Nebbiolo (80%)\, Chardonnay\, and locally historic Rossola comes from the Valtellina region of Italy\, near the Swiss border. Crisp\, fresh fruit and delicate minerality. Pair with risotto\, young cheese\, cured meats\, and an outdoor view.\n\nAudarya Monica di Sardegna DOC 2019: Our choice for a versatile\, food-friendly red wine. Pair with seafood\, poultry\, red meat\, pizza\, grilled or roasted vegetables. Medium body with good complexity. An ancient varietal unique to Sardinia\; produced with love and dedication by the Pala family.\n\nRocca Nero di Troia 2019 Puglia IGT: Great value\, off the beaten path. A very deep ruby red hue with notes of ripe red fruits and cherries with hints of spices and tobacco\, this wine showcases Puglia's high quality\, indigenous Nero di Troia. This wine is perfect for lamb and pork dishes!\n\nWe hope to see you at Simpatico in our outdoor courtyard "Piazza" to explore these amazing wines! Cin Cin!
X-ALT-DESC;FMTTYPE=text/html:<p>Join us in our outdoor courtyard Saturday September 4th as we introduce to you to new wines from Venetian Hill\, Valtellina\, Sardinia and Puglia Regions of Italy. Come meet Russ Lorber\, Importer &amp\; Founder\, Wide Roots\, as we visit these regions with fabulous wines for you to taste.</p>\n\n<p>About the wines\, taste any 3:</p>\n\n<p><strong>Venetian Hills Asolo Prosecco Superiore DOCG:</strong>&nbsp\;Intense characters from sunny hillside vines. Light\, lemon color with minute bubbles\, aromas of citrus fruits and flowers. A crisp\, fresh Prosecco with a balanced complexity and a delicate finish. Best enjoyed with a light fare or while relaxing.</p>\n\n<p><strong>Pietro Nera &ldquo\;La Novella&rdquo\; Nebbiolo Bianco 2019 Alpi Retiche IGT:</strong>&nbsp\;White wine from Nebbiolo? Certainly! This blend of Nebbiolo (80%)\, Chardonnay\, and locally historic Rossola comes from the Valtellina region of Italy\, near the Swiss border. Crisp\, fresh fruit and delicate minerality. Pair with risotto\, young cheese\, cured meats\, and an outdoor view.</p>\n\n<p><strong>Audarya Monica di Sardegna DOC 2019:</strong>&nbsp\;Our choice for a versatile\, food-friendly red wine. Pair with seafood\, poultry\, red meat\, pizza\, grilled or roasted vegetables. Medium body with good complexity. An ancient varietal unique to Sardinia\; produced with love and dedication by the Pala family.</p>\n\n<p><strong>Rocca Nero di Troia 2019 Puglia IGT:</strong>&nbsp\;Great value\, off the beaten path. A very deep ruby red hue with notes of ripe red fruits and cherries with hints of spices and tobacco\, this wine showcases Puglia&rsquo\;s high quality\, indigenous Nero di Troia. This wine is perfect for lamb and pork dishes!</p>\n\n<p>We hope to see you at Simpatico in our outdoor courtyard &quot\;Piazza&quot\; to explore these amazing wines! Cin Cin!</p>\n
LOCATION:Simpatico Courtyard\, 104-106 Railroad Ave.
UID:e.212.20199
SEQUENCE:3
DTSTAMP:20260424T110002Z
URL:https://www.stmichaelsmd.org/events/details/free-wine-tasting-with-russ-lorber-of-wide-roots-llc-20199
END:VEVENT

END:VCALENDAR
