BEGIN:VCALENDAR
VERSION:2.0
PRODID:-//ChamberMaster//Event Calendar 2.0//EN
METHOD:PUBLISH
X-PUBLISHED-TTL:P3D
REFRESH-INTERVAL:P3D
CALSCALE:GREGORIAN
BEGIN:VEVENT
DTSTART:20241226T210000Z
DTEND:20241226T230000Z
X-MICROSOFT-CDO-ALLDAYEVENT:FALSE
SUMMARY:Happy Hour at The Fool's Lantern
DESCRIPTION:Join us every Thursday at The Fool's Lantern for Super Happy Hour! From 4-6pm\, enjoy 10% off all wines\, $5 off chicken skewers and feta dip\, and $3 select draft beers. It's the perfect way to kick off your evening!
X-ALT-DESC;FMTTYPE=text/html:<span style="font-family:verdana\; font-size:14px">Join us every Thursday at The Fool&rsquo\;s Lantern for Super Happy Hour! From 4-6pm\, enjoy 10% off all wines\, $5 off chicken skewers and feta dip\, and $3 select draft beers. It&rsquo\;s the perfect way to kick off your evening!</span>
LOCATION:The Fool's Lantern Wine & Taproom 310 S. Talbot Street St. Michaels\, MD 21663 410-888-7379
UID:e.212.33227
SEQUENCE:3
DTSTAMP:20260419T121612Z
URL:https://www.stmichaelsmd.org/events/details/happy-hour-at-the-fool-s-lantern-12-26-2024-33227
END:VEVENT

END:VCALENDAR
