BEGIN:VCALENDAR
VERSION:2.0
PRODID:-//ChamberMaster//Event Calendar 2.0//EN
METHOD:PUBLISH
X-PUBLISHED-TTL:P3D
REFRESH-INTERVAL:P3D
CALSCALE:GREGORIAN
BEGIN:VEVENT
DTSTART:20220731T200000Z
DTEND:20220731T230000Z
X-MICROSOFT-CDO-ALLDAYEVENT:FALSE
SUMMARY:Jeff Washington\, LIVE @ Foxy's!
DESCRIPTION:A Vocalist\, Songwriter\, and\, keyboardist Jeff is the whole package! A master of all modern musical styles with a diverse set of Funk\, Blues\, Jazz\, Rock\, and R&B. His shows are always a great time!
X-ALT-DESC;FMTTYPE=text/html:<br />\nA Vocalist\, Songwriter\, and\, keyboardist Jeff is the whole package! A master of all modern musical styles with a diverse set of Funk\, Blues\, Jazz\, Rock\, and R&amp\;B. His shows are always a great time!
LOCATION:Foxy's Harbor Grille
UID:e.212.21723
SEQUENCE:3
DTSTAMP:20260423T195715Z
URL:https://www.stmichaelsmd.org/events/details/jeff-washington-live-foxy-s-07-31-2022-21723
END:VEVENT

END:VCALENDAR
