BEGIN:VCALENDAR
VERSION:2.0
PRODID:-//ChamberMaster//Event Calendar 2.0//EN
METHOD:PUBLISH
X-PUBLISHED-TTL:P3D
REFRESH-INTERVAL:P3D
CALSCALE:GREGORIAN
BEGIN:VEVENT
DTSTART:20220722T210000Z
DTEND:20220723T000000Z
X-MICROSOFT-CDO-ALLDAYEVENT:FALSE
SUMMARY:Kenny Haddaway\, LIVE @ Foxy's!
DESCRIPTION:Join us on the patio for a drink & a bite to eat. Let Kenny guide you through a peaceful dinner on the patio.
X-ALT-DESC;FMTTYPE=text/html:Join us on the patio for a drink &amp\; a bite to eat. Let Kenny guide you through a peaceful dinner on the patio.
LOCATION:Foxy's Harbor Grille
UID:e.212.21719
SEQUENCE:3
DTSTAMP:20260423T195604Z
URL:https://www.stmichaelsmd.org/events/details/kenny-haddaway-live-foxy-s-21719
END:VEVENT

END:VCALENDAR
