BEGIN:VCALENDAR
VERSION:2.0
PRODID:-//ChamberMaster//Event Calendar 2.0//EN
METHOD:PUBLISH
X-PUBLISHED-TTL:P3D
REFRESH-INTERVAL:P3D
CALSCALE:GREGORIAN
BEGIN:VEVENT
DTSTART:20230412T120000Z
DTEND:20230412T180000Z
X-MICROSOFT-CDO-ALLDAYEVENT:FALSE
SUMMARY:National Grilled Cheese Day at The Galley
DESCRIPTION:Happy National Grilled Cheese Day! ??????\n\nLooking for the perfect way to celebrate this delicious holiday? Come to the Galley restaurant in St. Michaels and try our mouth-watering grilled cheese sandwich! ??\n\nOur family-owned and operated restaurant is proud to serve up the best grilled cheese in town. We use only the freshest ingredients and cook each sandwich to perfection. Whether you prefer classic cheddar or something a little more gourmet\, we've got you covered. ??\n\nDon't miss out on this special day! Head over to the Galley and treat yourself to a cheesy\, melty\, unforgettable grilled cheese sandwich. Your taste buds will thank you! ??\nAnd while you're here\, be sure to follow our page for more updates\, specials\, and deliciousness. We can't wait to see you soon!
X-ALT-DESC;FMTTYPE=text/html:<div style="background:#F7F7F8\; border:solid #D9D9E3 1.0pt\; padding:0in 0in 0in 0in"><span style="color:#374151"><span style="font-family:segoe ui\,sans-serif">Happy National Grilled Cheese Day! </span></span><span style="color:#374151"><span style="font-family:segoe ui symbol\,sans-serif">??????</span></span><br />\n<span style="color:#374151"><span style="font-family:segoe ui\,sans-serif">Looking for the perfect way to celebrate this delicious holiday? Come to the Galley restaurant in St. Michaels and try our mouth-watering grilled cheese sandwich! ??</span></span><br />\n<span style="color:#374151"><span style="font-family:segoe ui\,sans-serif">Our family-owned and operated restaurant is proud to serve up the best grilled cheese in town. We use only the freshest ingredients and cook each sandwich to perfection. Whether you prefer classic cheddar or something a little more gourmet\, we&#39\;ve got you covered. </span></span><span style="color:#374151"><span style="font-family:segoe ui symbol\,sans-serif">??</span></span><br />\n<span style="color:#374151"><span style="font-family:segoe ui\,sans-serif">Don&#39\;t miss out on this special day! Head over to the Galley and treat yourself to a cheesy\, melty\, unforgettable grilled cheese sandwich. Your taste buds will thank you! </span></span><span style="color:#374151"><span style="font-family:segoe ui symbol\,sans-serif">??</span></span></div>\n<span style="color:#374151"><span style="font-family:segoe ui\,sans-serif"><span style="font-size:11.0pt">And while you&#39\;re here\, be sure to follow our page for more updates\, specials\, and deliciousness. We can&#39\;t wait to see you soon!</span></span></span>
LOCATION:305 S. Talbot St St. Michaels\, MD 21663
UID:e.212.23385
SEQUENCE:3
DTSTAMP:20260423T055529Z
URL:https://www.stmichaelsmd.org/events/details/national-grilled-cheese-day-at-the-galley-23385
END:VEVENT

END:VCALENDAR
