BEGIN:VCALENDAR
VERSION:2.0
PRODID:-//ChamberMaster//Event Calendar 2.0//EN
METHOD:PUBLISH
X-PUBLISHED-TTL:P3D
REFRESH-INTERVAL:P3D
CALSCALE:GREGORIAN
BEGIN:VEVENT
DTSTART:20220726T224500Z
DTEND:20220727T000000Z
X-MICROSOFT-CDO-ALLDAYEVENT:FALSE
SUMMARY:Reiki Healing Sound Bath
DESCRIPTION:Join us this month for a powerfully relaxing reiki/sound bath designed to promote deep states of calm\, relaxation\, peace & wellbeing.\n\nWhat to expect: you will be immersed in healing sounds and frequencies while receiving Reiki from our practitioners.\n\nIf you have never been to a sound bath before you will want to wear comfortable\, warm clothing.\n\nIt can get chilly in the room we are in and being too cold will prevent you from reaching maximum states of deep relaxation.\n\nThese deep states promote healing and recovery from the stress of daily life.\n\nPlease bring a yoga mat\, knee support\, and a light blanket to cover up with.\n\nIf you do not have a yoga mat we will do our best to make you as comfortable as possible.\n\nYou are also welcome to sit in a chair if laying down isn't an option.\n\n\n\nhttps://www.facebook.com/events/3219407138294813?ref=newsfeed
X-ALT-DESC;FMTTYPE=text/html:<span style="color:rgb(5\, 5\, 5)\; font-family:system-ui\,-apple-system\,system-ui\,.sfnstext-regular\,sans-serif\; font-size:15px">Join us this month for a powerfully relaxing reiki/sound bath designed to promote deep states of calm\, relaxation\, peace &amp\; wellbeing.</span><br />\n<span style="color:rgb(5\, 5\, 5)\; font-family:system-ui\,-apple-system\,system-ui\,.sfnstext-regular\,sans-serif\; font-size:15px">What to expect: you will be immersed in healing sounds and frequencies while receiving Reiki from our practitioners.</span><br />\n<span style="color:rgb(5\, 5\, 5)\; font-family:system-ui\,-apple-system\,system-ui\,.sfnstext-regular\,sans-serif\; font-size:15px">If you have never been to a sound bath before you will want to wear comfortable\, warm clothing.</span><br />\n<span style="color:rgb(5\, 5\, 5)\; font-family:system-ui\,-apple-system\,system-ui\,.sfnstext-regular\,sans-serif\; font-size:15px">It can get chilly in the room we are in and being too cold will prevent you from reaching maximum states of deep relaxation.</span><br />\n<span style="color:rgb(5\, 5\, 5)\; font-family:system-ui\,-apple-system\,system-ui\,.sfnstext-regular\,sans-serif\; font-size:15px">These deep states promote healing and recovery from the stress of daily life.</span><br />\n<span style="color:rgb(5\, 5\, 5)\; font-family:system-ui\,-apple-system\,system-ui\,.sfnstext-regular\,sans-serif\; font-size:15px">Please bring a yoga mat\, knee support\, and a light blanket to cover up with.</span><br />\n<span style="color:rgb(5\, 5\, 5)\; font-family:system-ui\,-apple-system\,system-ui\,.sfnstext-regular\,sans-serif\; font-size:15px">If you do not have a yoga mat we will do our best to make you as comfortable as possible.</span><br />\n<span style="color:rgb(5\, 5\, 5)\; font-family:system-ui\,-apple-system\,system-ui\,.sfnstext-regular\,sans-serif\; font-size:15px">You are also welcome to sit in a chair if laying down isn&#39\;t an option.</span><br />\n<br />\nhttps://www.facebook.com/events/3219407138294813?ref=newsfeed
LOCATION:St Michaels Inn 1228 S Talbot St St Michaels Maryland 21663
UID:e.212.21046
SEQUENCE:3
DTSTAMP:20260423T195715Z
URL:https://www.stmichaelsmd.org/events/details/reiki-healing-sound-bath-07-26-2022-21046
END:VEVENT

END:VCALENDAR
