BEGIN:VCALENDAR
VERSION:2.0
PRODID:-//ChamberMaster//Event Calendar 2.0//EN
METHOD:PUBLISH
X-PUBLISHED-TTL:P3D
REFRESH-INTERVAL:P3D
CALSCALE:GREGORIAN
BEGIN:VEVENT
DTSTART:20220917T190000Z
DTEND:20220917T220000Z
X-MICROSOFT-CDO-ALLDAYEVENT:FALSE
SUMMARY:Rock the Block Party at St. Michaels Community Center
DESCRIPTION:Community Center hosts Sept. 17 Rock the Block Party\n\n \n\nThe St. Michaels Community Center is hosting a Rock the Block Party on Sat.\, Sept. 17 from 3 to 6:00 p.m. The free event includes food and drinks\, music\, games\, children's activities\, community resources\, and more.\n\n \n\nThe St. Michaels Community Center hosts block parties throughout the year to build a stronger relationship between neighbors and the community center.\n\n \n\n"We are grateful for the work we do in partnership with our donors and community supporters\," said SMCC Executive Director Patrick Rofe. "These events bring people together to become more engaged in and connected to the community as a whole."\n\n \n\nDonations to SMCC and proceeds from its Treasure Cove Thrift Shop\, located on Railroad Ave. in St. Michaels\, help the nonprofit provide year-round programs\, services\, and community events for people from throughout the Bay Hundred area. More information is at stmichaelscc.org.
X-ALT-DESC;FMTTYPE=text/html:<span style="color:black\;"><span style="font-family:times new roman\,serif\;"><span style="font-size:12pt\;">Community Center hosts Sept. 17 Rock the Block Party</span></span></span><br />\n&nbsp\;<br />\n<span style="font-family:times new roman\,serif\;"><span style="font-size:10pt\;">The St. Michaels Community Center is hosting a Rock the Block Party on Sat.\, Sept. 17 from 3 to 6:00 p.m. The free event includes food and drinks\, music\, games\, children&rsquo\;s activities\, community resources\, and more.</span></span><br />\n&nbsp\;<br />\n<span style="background-image:initial\;background-position:initial\;background-size:initial\;background-repeat:initial\;background-origin:initial\;background-clip:initial\;"><span style="font-family:times new roman\,serif\;"><span style="font-size:10pt\;">The St. Michaels Community Center hosts block parties throughout the year to build a stronger relationship between neighbors and the community center.</span></span></span><br />\n&nbsp\;<br />\n<span style="font-family:times new roman\,serif\;"><span style="font-size:10pt\;">&ldquo\;We are grateful for the work we do in partnership with our donors and community supporters\,&rdquo\; said SMCC Executive Director Patrick Rofe. &ldquo\;These events bring people together to become more engaged in and connected to the community as a whole.&rdquo\;</span></span><br />\n&nbsp\;<br />\n<span style="font-family:times new roman\,serif\;"><span style="font-size:10pt\;">Donations to SMCC and proceeds from its Treasure Cove Thrift Shop\, located on Railroad Ave. in St. Michaels\, help the nonprofit provide year-round programs\, services\, and community events for people from throughout the Bay Hundred area. More information is at&nbsp\;</span></span><a data-saferedirecturl="https://www.google.com/url?q=http://www.stmichaelscc.org/&amp\;source=gmail&amp\;ust=1662808230175000&amp\;usg=AOvVaw1GVb_XqGFWHKdZTLc1QpqE" href="http://www.stmichaelscc.org/" style="color:blue\;" target="_blank"><span style="color:#0563c1\;"><span style="font-family:times new roman\,serif\;"><span style="font-size:10pt\;">stmichaelscc.org</span></span></span></a><span style="font-family:times new roman\,serif\;"><span style="font-size:10pt\;">.&nbsp\;</span></span>
LOCATION:
UID:e.212.21849
SEQUENCE:3
DTSTAMP:20260423T164805Z
URL:https://www.stmichaelsmd.org/events/details/rock-the-block-party-at-st-michaels-community-center-21849
END:VEVENT

END:VCALENDAR
