BEGIN:VCALENDAR
VERSION:2.0
PRODID:-//ChamberMaster//Event Calendar 2.0//EN
METHOD:PUBLISH
X-PUBLISHED-TTL:P3D
REFRESH-INTERVAL:P3D
CALSCALE:GREGORIAN
BEGIN:VEVENT
DTSTART:20210918T233000Z
DTEND:20210919T013000Z
X-MICROSOFT-CDO-ALLDAYEVENT:FALSE
SUMMARY:Shakespeare in the Park - Much Ado About Nothing
DESCRIPTION:Shakespeare in the Park\n\nDirected by Kyler Taustin\, Brown Box Theatre Project\n\nST. MICHAELS: Saturday\, September 18th\n\nMuskrat Park | 207 Willow Green Street\n\nFree Outdoor Shakespeare returns. Performance begins at 7:30 p.m. and is free and open to the public. Bringing a chair or blanket is recommended.\n\nMuch Ado About Nothing\n\n"Some Cupid kills with arrows\, some with traps."\n\nUpon their return from war\, a group of soldiers are reminded that life and love are not so black and white. Trickery\, jealousy\, deceit\, and masquerade each play a role in challenging Benedict and Beatrice's scorn for love (and each other) as well as the seemingly unassailable love of Claudio and Hero. Through witty banter and dastardly deception\, Shakespeare's beloved comedy\, Much Ado About Nothing debates the preconceived notion of how to love and the value of trust.\n\nFor more details visit www.brownboxtheatre.org\n\nThis program is funded in part by the Town of St. Michaels\, the Maryland State Arts Council and the Talbot County Arts Council.
X-ALT-DESC;FMTTYPE=text/html:<p style="margin: 0px 0px 10px\; padding: 0px 0px 0.5em\; font-family: georgia\; font-size: 17px\; line-height: 20.4px\; color: rgb(32\, 28\, 87)\;"><strong style="margin: 0px\; padding: 0px\; font-family: georgia\, arial\;">Shakespeare in the Park</strong><br style="margin: 0px\; padding: 0px\;" />\n<em style="margin: 0px\; padding: 0px\; border: none\;">Directed by Kyler Taustin\, Brown Box Theatre Project</em></p>\n\n<p style="margin: 0px 0px 10px\; padding: 0px 0px 0.5em\; font-family: georgia\; font-size: 17px\; line-height: 20.4px\; color: rgb(32\, 28\, 87)\;">ST. MICHAELS: Saturday\, September 18th<br style="margin: 0px\; padding: 0px\;" />\nMuskrat Park | 207 Willow Green Street</p>\n\n<p style="margin: 0px 0px 10px\; padding: 0px 0px 0.5em\; font-family: georgia\; font-size: 17px\; line-height: 20.4px\; color: rgb(32\, 28\, 87)\;">Free Outdoor Shakespeare returns. Performance begins at 7:30 p.m. and is free and open to the public. Bringing a chair or blanket is recommended.</p>\n\n<p style="margin: 0px 0px 10px\; padding: 0px 0px 0.5em\; font-family: georgia\; font-size: 17px\; line-height: 20.4px\; color: rgb(32\, 28\, 87)\;"><strong style="margin: 0px\; padding: 0px\; font-family: georgia\, arial\;">Much Ado About Nothing</strong><br style="margin: 0px\; padding: 0px\;" />\n<em style="margin: 0px\; padding: 0px\; border: none\;">&ldquo\;Some Cupid kills with arrows\, some with traps.&rdquo\;</em><br style="margin: 0px\; padding: 0px\;" />\nUpon their return from war\, a group of soldiers are reminded that life and love are not so black and white. Trickery\, jealousy\, deceit\, and masquerade each play a role in challenging Benedict and Beatrice&rsquo\;s scorn for love (and each other) as well as the seemingly unassailable love of Claudio and Hero. Through witty banter and dastardly deception\, Shakespeare&rsquo\;s beloved comedy\,&nbsp\;<em style="margin: 0px\; padding: 0px\; border: none\;">Much Ado About Nothing</em>&nbsp\;debates the preconceived notion of how to love and the value of trust.</p>\n\n<p style="margin: 0px 0px 10px\; padding: 0px 0px 0.5em\; font-family: georgia\; font-size: 17px\; line-height: 20.4px\; color: rgb(32\, 28\, 87)\;">For more details visit&nbsp\;<a href="http://www.brownboxtheatre.org/current.html" rel="noopener noreferrer" style="margin: 0px\; padding: 0px\; color: rgb(35\, 103\, 162)\; outline: 0px\; text-decoration-line: none\; font-family: roboto\, georgia\, arial\;" target="_blank">www.brownboxtheatre.org</a></p>\n\n<p style="margin: 0px 0px 10px\; padding: 0px 0px 0.5em\; font-family: georgia\; font-size: 17px\; line-height: 20.4px\; color: rgb(32\, 28\, 87)\;"><em style="margin: 0px\; padding: 0px\; border: none\;">This program is funded in part by the Town of St. Michaels\, the Maryland State Arts Council and the Talbot County Arts Council.</em></p>\n\n<p style="margin: 0px 0px 10px\; padding: 0px 0px 0.5em\; font-family: georgia\; font-size: 17px\; line-height: 20.4px\; color: rgb(32\, 28\, 87)\;">&nbsp\;</p>\n
LOCATION:ST. MICHAELS: Saturday\, September 18th Muskrat Park | 207 Willow Green Street
UID:e.212.19821
SEQUENCE:3
DTSTAMP:20260424T105950Z
URL:https://www.stmichaelsmd.org/events/details/shakespeare-in-the-park-much-ado-about-nothing-19821
END:VEVENT

END:VCALENDAR
