BEGIN:VCALENDAR
VERSION:2.0
PRODID:-//ChamberMaster//Event Calendar 2.0//EN
METHOD:PUBLISH
X-PUBLISHED-TTL:P3D
REFRESH-INTERVAL:P3D
CALSCALE:GREGORIAN
BEGIN:VEVENT
DTSTART:20220318T033000Z
DTEND:20220317T050000Z
X-MICROSOFT-CDO-ALLDAYEVENT:FALSE
SUMMARY:Shopping Cart Races @ Carpenter Street
DESCRIPTION:Every year on March 17\, the Irish and the Irish-at-heart across the globe observe St. Patrick's Day. What began as a religious feast day for the patron Saint of Ireland has become an international festival celebrating Irish culture with parades\, dancing\, special foods and a whole lot of green.\n\nSt. Michaels is joining the St. Patrick's Day celebration with special events. The annual Carpenter Street Saloon shopping cart races are held every year on St. Patrick's Day at Midnight. Proceeds benefit the St. Michaels and Tilghman Fire Departments.\n\nParticipating businesses will have specials all weekend long.\n\nBuy a personalized shamrock to adorn the street! $50 each to support the St. Michaels Police Department "S.M.Y.L.E" Program (St. Michaels Youth Law Enforcement) which is a great program which educates kids about law enforcement.
X-ALT-DESC;FMTTYPE=text/html:<p style="margin: 0px 0px 10px\; padding: 0px 0px 0.5em\; font-family: georgia\; font-size: 17px\; line-height: 20.4px\; color: rgb(32\, 28\, 87)\;"><span style="font-size:14px\;"><span style="font-family:arial\;">Every year on March 17\, the Irish and the Irish-at-heart across the globe observe St. Patrick&rsquo\;s Day. What began as a religious feast day for the patron Saint of Ireland has become an international festival celebrating Irish culture with parades\, dancing\, special foods and a whole lot of green.</span></span></p>\n\n<p style="margin: 0px 0px 10px\; padding: 0px 0px 0.5em\; font-family: georgia\; font-size: 17px\; line-height: 20.4px\; color: rgb(32\, 28\, 87)\;"><span style="font-size:14px\;"><span style="font-family:arial\;">St. Michaels is joining the St. Patrick&rsquo\;s Day celebration with special events. The annual Carpenter Street Saloon shopping cart races are held every year on St. Patrick&rsquo\;s Day at Midnight. Proceeds benefit the St. Michaels and Tilghman Fire Departments.</span></span></p>\n\n<p style="margin: 0px 0px 10px\; padding: 0px 0px 0.5em\; font-family: georgia\; font-size: 17px\; line-height: 20.4px\; color: rgb(32\, 28\, 87)\;"><span style="font-size:14px\;"><span style="font-family:arial\;">Participating businesses will have specials all weekend long.</span></span></p>\n\n<p style="margin: 0px 0px 10px\; padding: 0px 0px 0.5em\; font-family: georgia\; font-size: 17px\; line-height: 20.4px\; color: rgb(32\, 28\, 87)\;"><span style="font-size:14px\;"><span style="font-family:arial\;">Buy a personalized shamrock to adorn the street! $50 each to support the St. Michaels Police Department &ldquo\;S.M.Y.L.E&rdquo\; Program (St. Michaels Youth Law Enforcement) which is a great program which educates kids about law enforcement.</span></span></p>\n
LOCATION:Carpenter Street Saloon 113 S. Talbot Street St. Michaels MD 21663
UID:e.212.21034
SEQUENCE:3
DTSTAMP:20260424T022657Z
URL:https://www.stmichaelsmd.org/events/details/shopping-cart-races-carpenter-street-21034
END:VEVENT

END:VCALENDAR
