BEGIN:VCALENDAR
VERSION:2.0
PRODID:-//ChamberMaster//Event Calendar 2.0//EN
METHOD:PUBLISH
X-PUBLISHED-TTL:P3D
REFRESH-INTERVAL:P3D
CALSCALE:GREGORIAN
BEGIN:VEVENT
DTSTART:20221022T160000Z
DTEND:20221022T210000Z
X-MICROSOFT-CDO-ALLDAYEVENT:FALSE
SUMMARY:Simpatico - Fall into a Taste of St. Michaels Special Event
DESCRIPTION:Simpatico's Special Event:\n\nSimpatico\, Italy's Finest "Taste of St. Michaels" Venue will combine our love of Italian wines paired with an assortment of Italian food tastings for a special Fall into Taste of St. Michaels experience. For a ticket price of $15 for our venue\, you will receive a tasting glass and up to 16 wine tastings paired with assorted food items. Visit with wine experts\, Ginny Murphy of Monsieur Touton\, Davide Megna of Impero Wines and Martin Klamer of Kaltern Vineyards\, joining us all the way from Italy!\n\n \n\nSpecial pricing for all wines will be available during the weekend. Saluti!\n\n \n\n \n\nFor tickets\, sign up for the time slot you prefer\, https://www.simpaticostmichaels.com/events-1/taste-of-st-michaels-simpatico-venue-wine-pairings-event starting at 12:00 PM through 5:00 PM in one hour time slots. We will be limiting attendees in each hour time slot to manage the flow and eliminate crowding at any one time.\n\nSee you there!
X-ALT-DESC;FMTTYPE=text/html:<p style="font-size: 16px\; margin: 0px 0px 0px 40px\; font-stretch: normal\; line-height: normal\; font-family: Helvetica\; color: rgb(33\, 33\, 33)\;"><u><strong><span style="vertical-align: 1.5px\;">Simpatico&#39\;s Special Event:</span></strong></u></p>\n\n<p style="font-size: 16px\; margin: 0px 0px 0px 40px\; font-stretch: normal\; line-height: normal\; font-family: Helvetica\; color: rgb(33\, 33\, 33)\;"><span style="vertical-align: 1.5px\;">Simpatico\, Italy&#39\;s Finest &quot\;Taste of St. Michaels&quot\; Venue will combine our love of Italian wines paired with an assortment of Italian food tastings for a special Fall into Taste of St. Michaels experience. For a ticket price of $15 for our venue\, you will receive a tasting glass and up to 16 wine tastings paired with assorted food items. Visit with wine experts\, Ginny Murphy of Monsieur Touton\, Davide Megna of Impero Wines and Martin Klamer of Kaltern Vineyards\, joining us all the way from Italy!</span></p>\n\n<p style="font-size: 16px\; margin: 0px 0px 0px 40px\; font-stretch: normal\; line-height: normal\; font-family: Helvetica\; color: rgb(33\, 33\, 33)\;">&nbsp\;</p>\n\n<p style="font-size: 16px\; margin: 0px 0px 0px 40px\; font-stretch: normal\; line-height: normal\; font-family: Helvetica\; color: rgb(33\, 33\, 33)\;"><span style="vertical-align: 1.5px\;">Special pricing for all wines will be available during the weekend. Saluti!</span></p>\n\n<p style="font-size: 16px\; margin: 0px 0px 0px 40px\; font-stretch: normal\; line-height: normal\; font-family: Helvetica\; color: rgb(33\, 33\, 33)\;">&nbsp\;</p>\n\n<p style="font-size: 16px\; margin: 0px 0px 0px 40px\; font-stretch: normal\; line-height: normal\; font-family: Helvetica\; color: rgb(33\, 33\, 33)\;">&nbsp\;</p>\n\n<p style="font-size: 16px\; margin: 0px 0px 0px 40px\; font-stretch: normal\; line-height: normal\; font-family: Helvetica\; color: rgb(33\, 33\, 33)\;"><span style="vertical-align: 1.5px\;">For tickets\, sign up for the time slot you prefer\,&nbsp\;</span><a href="https://www.simpaticostmichaels.com/events-1/taste-of-st-michaels-simpatico-venue-wine-pairings-event" rel="nofollow noopener noreferrer" style="word-break: break-word\; color: rgb(25\, 106\, 212)\;" target="_blank">https://www.simpaticostmichaels.com/events-1/taste-of-st-michaels-simpatico-venue-wine-pairings-event</a>&nbsp\;starting at 12:00 PM through 5:00 PM in one hour time slots. We will be limiting attendees in each hour time slot to manage the flow and eliminate crowding at any one time.<br />\nSee you there!</p>\n
LOCATION:Simpatico Italy's Finest 104 Railroad Ave. St Michaels\, MD 21663
UID:e.212.22515
SEQUENCE:3
DTSTAMP:20260423T152455Z
URL:https://www.stmichaelsmd.org/events/details/simpatico-fall-into-a-taste-of-st-michaels-special-event-22515
END:VEVENT

END:VCALENDAR
