BEGIN:VCALENDAR
VERSION:2.0
PRODID:-//ChamberMaster//Event Calendar 2.0//EN
METHOD:PUBLISH
X-PUBLISHED-TTL:P3D
REFRESH-INTERVAL:P3D
CALSCALE:GREGORIAN
BEGIN:VEVENT
DTSTART:20191130T150000Z
DTEND:20191130T220000Z
X-MICROSOFT-CDO-ALLDAYEVENT:FALSE
SUMMARY:Simpatico's Customer Appreciation Day November 30th
DESCRIPTION:Join us as we celebrate our customers\, and share Holiday recipes and food creations from our products for tastings\, special wines for the Holidays\, and more as you taste your way around the shop. We truly appreciate our customers! Special sales throughout the shop for gifting or keeping will be available!
X-ALT-DESC;FMTTYPE=text/html:Join us as we celebrate our customers\, and share Holiday recipes and food creations from our products for tastings\, special wines for the Holidays\, and more as you taste your way around the shop. We truly appreciate our customers! Special sales throughout the shop for gifting or keeping will be available!&nbsp\;
LOCATION:Simpatico\, Italy's Finest\, 106 Railroad Ave\, St. Michaels\, MD
UID:e.212.19387
SEQUENCE:3
DTSTAMP:20260425T215735Z
URL:https://www.stmichaelsmd.org/events/details/simpatico-s-customer-appreciation-day-november-30th-19387
END:VEVENT

END:VCALENDAR
