BEGIN:VCALENDAR
VERSION:2.0
PRODID:-//ChamberMaster//Event Calendar 2.0//EN
METHOD:PUBLISH
X-PUBLISHED-TTL:P3D
REFRESH-INTERVAL:P3D
CALSCALE:GREGORIAN
BEGIN:VEVENT
DTSTART:20220305T170000Z
DTEND:20220305T210000Z
X-MICROSOFT-CDO-ALLDAYEVENT:FALSE
SUMMARY:Simpatico Wine & Chocolate Tasting Event
DESCRIPTION:Simpatico\, Italy's Finest ChocolateFest Venue will once again combine our love of wine and chocolate for our celebration "Amore al Cioccolato & Vino". We are especially happy to be including our original No-Longer-Leaning Yellow Building in addition to our current building for the venue offerings. Our original building\, built between 1896 and 1901\, was originally an Oyster Saloon when it first opened in that time period. In honor of the heritage of our building\, we will be offering Oyster Crackers to cleanse the pallet in between tastings.\n\nFor a ticket price of $15 for our wine venue\, you will receive a tasting glass\, 12 assorted Italian Chocolates\, tastes of up to 12 wines per ticket to pair with the chocolates & oyster crackers for palate cleansing.
X-ALT-DESC;FMTTYPE=text/html:<p><strong>Simpatico\, Italy&#39\;s Finest ChocolateFest Venue will once again combine our love of wine and chocolate for our celebration &quot\;Amore al Cioccolato &amp\; Vino&quot\;.</strong>&nbsp\;We are especially happy to be including our original No-Longer-Leaning Yellow Building in addition to our current building for the venue offerings. Our original building\, built between 1896 and 1901\, was originally an Oyster Saloon when it first opened in that time period. In honor of the heritage of our building\, we will be offering Oyster Crackers to cleanse the pallet in between tastings.</p>\n\n<p><strong>For a ticket price of $15 for our wine venue\, you will receive a tasting glass\, 12 assorted Italian Chocolates\, tastes of up to 12 wines per ticket to pair with the chocolates &amp\; oyster crackers for palate cleansing.&nbsp\;</strong></p>\n
LOCATION:104 Railroad Ave\, St. Michaels\, MD 21663
UID:e.212.21033
SEQUENCE:3
DTSTAMP:20260424T020828Z
URL:https://www.stmichaelsmd.org/events/details/simpatico-wine-chocolate-tasting-event-21033
END:VEVENT

END:VCALENDAR
