BEGIN:VCALENDAR
VERSION:2.0
PRODID:-//ChamberMaster//Event Calendar 2.0//EN
METHOD:PUBLISH
X-PUBLISHED-TTL:P3D
REFRESH-INTERVAL:P3D
CALSCALE:GREGORIAN
BEGIN:VEVENT
DTSTART:20210731T170000Z
DTEND:20210731T203000Z
X-MICROSOFT-CDO-ALLDAYEVENT:FALSE
SUMMARY:Simpatico Wine Tasting: Importer Russ Lorber & New Wines/Grapes to Taste!
DESCRIPTION:Free Italian WIne Tasting: Join us in our courtyard at 106 Railraod Ave just off Talbot as we introduce to you what we believe will be possibly 3 or 4 new grapes to your palate: from Le Marche\, Sardinia and Puglia. Come meet Russ Lorber\, Importer & Founder\, Wide Roots\, as we visit these three regions with wines for you to taste. \n\nAbout the wines\, choose any 3 of these 4 to taste:\n\nHiso Telaray Alberelli de la Santa Negroamaro Rosato Salento IGT 2019 - A beautiful ros  wine.  \n\nTenimenti Spinsanti "Sisto V" Spumante Brut Pecorino - A sparkler from the hottest grape in Italy. \n\nAudarya Nuragus di Cagliari DOC 2020 - A rare\, ancient variety difficult to find outside of Sardinia. \n\nRocca Nero di Troia Puglia IGT 2020 - Great value\, off the beaten path. \n\nWe hope to see you at Simpatico in the courtyard to explore these amazing wines! Cin Cin!
X-ALT-DESC;FMTTYPE=text/html:<p>Free Italian WIne Tasting: Join us in our courtyard at 106 Railraod Ave just off Talbot as we introduce to you what we believe will be possibly 3 or 4 new grapes to your palate: from Le Marche\, Sardinia and Puglia. Come meet Russ Lorber\, Importer &amp\; Founder\, Wide Roots\, as we visit these three regions with wines for you to taste.&nbsp\;</p>\n\n<p>About the wines\, choose any 3 of these 4 to taste:</p>\n\n<p><strong>Hiso Telaray Alberelli de la Santa Negroamaro Rosato Salento IGT 2019 - A beautiful ros&eacute\; wine.&nbsp\;</strong>&nbsp\;</p>\n\n<p><strong>Tenimenti Spinsanti &ldquo\;Sisto V&rdquo\; Spumante Brut Pecorino</strong>&nbsp\;-&nbsp\;<em><strong>A sparkler from the hottest&nbsp\;grape in Italy.</strong></em>&nbsp\;</p>\n\n<p><strong>Audarya Nuragus di Cagliari DOC 2020</strong>&nbsp\;-&nbsp\;<em><strong>A rare\, ancient variety difficult to find outside of Sardinia.</strong></em>&nbsp\;</p>\n\n<p><strong>Rocca Nero di Troia Puglia IGT 2020 -&nbsp\;</strong><em><strong>Great value\, off&nbsp\;the beaten&nbsp\;path.</strong></em>&nbsp\;</p>\n\n<p>We hope to see you at Simpatico in the courtyard to explore these amazing wines! Cin Cin!</p>\n
LOCATION:Courtyard at Simpatico\, Italy's Finest 104-106 Railroad Ave. St. Michaels\, MD
UID:e.212.20193
SEQUENCE:3
DTSTAMP:20260424T142021Z
URL:https://www.stmichaelsmd.org/events/details/simpatico-wine-tasting-importer-russ-lorber-new-wines-grapes-to-taste-20193
END:VEVENT

END:VCALENDAR
