BEGIN:VCALENDAR
VERSION:2.0
PRODID:-//ChamberMaster//Event Calendar 2.0//EN
METHOD:PUBLISH
X-PUBLISHED-TTL:P3D
REFRESH-INTERVAL:P3D
CALSCALE:GREGORIAN
BEGIN:VEVENT
DTSTART:20190710T200000Z
DTEND:20190710T230000Z
X-MICROSOFT-CDO-ALLDAYEVENT:FALSE
SUMMARY:Sip & Shop Second Wednesday's
DESCRIPTION:Sip & Shop Second Wednesday's are held on the second Wednesday of the Month from 4 pm - 7 pm at participating shops\, boutiques and galleries for an evening of special sales and refreshments.
X-ALT-DESC;FMTTYPE=text/html:Sip &amp\; Shop Second Wednesday&#39\;s are held on the second Wednesday of the Month from 4 pm - 7 pm at participating shops\, boutiques and galleries for an evening of special sales and refreshments.<br />\n&nbsp\;
LOCATION:Throughout the town of St. Michaels featuring: Broken Rudder Sportswear w/ Brackish Life Ophiuroidea St. Michaels Pet Supplies Old Towne Candy Co. Carpenter Street
UID:e.212.19331
SEQUENCE:3
DTSTAMP:20260421T173803Z
URL:https://www.stmichaelsmd.org/events/details/sip-shop-second-wednesday-s-07-10-2019-19331
END:VEVENT

END:VCALENDAR
