BEGIN:VCALENDAR
VERSION:2.0
PRODID:-//ChamberMaster//Event Calendar 2.0//EN
METHOD:PUBLISH
X-PUBLISHED-TTL:P3D
REFRESH-INTERVAL:P3D
CALSCALE:GREGORIAN
BEGIN:VEVENT
DTSTART:20190723T213000Z
DTEND:20190724T010000Z
X-MICROSOFT-CDO-ALLDAYEVENT:FALSE
SUMMARY:South African Braai
DESCRIPTION:The Old Brick Inn will be hosting a traditional South African Braai on our beautiful garden patio. What is a Braai? It is a South African cooking technique of grilling meat and fish over wood. However\, it is much more than just that. It is time spent with friends and family\, taking in the beautiful outdoors\, enjoying good food\, good company and good drink. Come submerge yourself in South African culture. Learn about the up and coming wine industry in South Africa with Alyssa Wolf of Red Wolf Importers\, expert in South African wines. Get a "Sneak Peek" at potential wines for WineFest at St. Michaels 2020. We will be featuring 6 world-class South African wines along with delicious South African foods. Wines will be available for purchase for $15 - $40 each. We have 2 seatings\, the first at 5:30pm and the second at 7:30pm\, each seating is limited to 20 guests. Stay at The Old Brick Inn for 2 nights including July 23\, 2019 and receive your tickets half off. Tickets are available at The Old Brick Inn or https://www.localwineevents.com/events/detail/756057/eastern-shore-maryland-wine-tickets-old-brick-inn-south-african-braai-in-st-michaels.
X-ALT-DESC;FMTTYPE=text/html:<span style="color:rgb(51\, 51\, 51)\; font-family:arial\,helvetica\,sans-serif\; font-size:13px"><span style="font-size:16px"><span style="color:black">The Old Brick Inn will be hosting a traditional South African Braai on our beautiful garden patio. What is a Braai? It is a South African cooking technique of grilling meat and fish over wood. However\, it is much more than just that. It is time spent with friends and family\, taking in the beautiful outdoors\, enjoying good food\, good company and good drink. Come submerge yourself in South African culture. Learn about the up and coming wine industry in South Africa with Alyssa Wolf of Red Wolf Importers\, expert in South African wines. Get a &quot\;Sneak Peek&quot\; at potential wines for WineFest at St. Michaels 2020. We will be featuring 6 world-class South African wines along with delicious South African foods. Wines will be available for purchase for $15 - $40 each. We have 2 seatings\, the first at 5:30pm and the second at 7:30pm\, each seating is limited to 20 guests. Stay at The Old Brick Inn for 2 nights including July 23\, 2019 and receive your tickets half off. Tickets are available at The Old Brick Inn or&nbsp\;</span></span></span><a href="https://www.localwineevents.com/events/detail/756057/eastern-shore-maryland-wine-tickets-old-brick-inn-south-african-braai-in-st-michaels" style="color: rgb(7\, 130\, 193)\; font-family: sans-serif\, Arial\, Verdana\, &quot\;Trebuchet MS&quot\;\; font-size: 13px\;">https://www.localwineevents.com/events/detail/756057/eastern-shore-maryland-wine-tickets-old-brick-inn-south-african-braai-in-st-michaels</a><span style="background-color:rgb(255\, 255\, 255)\; color:rgb(51\, 51\, 51)\; font-family:sans-serif\,arial\,verdana\,trebuchet ms\; font-size:13px">.</span>
LOCATION:The Old Brick Inn Garden Patio 401 South Talbot Street St. Michaels\, MD 21663
UID:e.212.19317
SEQUENCE:3
DTSTAMP:20260421T173752Z
URL:https://www.stmichaelsmd.org/events/details/south-african-braai-19317
END:VEVENT

END:VCALENDAR
