BEGIN:VCALENDAR
VERSION:2.0
PRODID:-//ChamberMaster//Event Calendar 2.0//EN
METHOD:PUBLISH
X-PUBLISHED-TTL:P3D
REFRESH-INTERVAL:P3D
CALSCALE:GREGORIAN
BEGIN:VEVENT
DTSTART:20221016T160000Z
DTEND:20221016T190000Z
X-MICROSOFT-CDO-ALLDAYEVENT:FALSE
SUMMARY:Speedin Thru The Arboretum
DESCRIPTION:Come out to Adkins Arboretum for a 5k fun run/walk to benefit the Easton High School Cross Country team. Register at https://runsignup.com/Race/MD/Ridgely/SpeedinThruTheArboretum5K
X-ALT-DESC;FMTTYPE=text/html:Come out to Adkins Arboretum for a 5k fun run/walk to benefit the Easton High School Cross Country team. Register at&nbsp\;<a href="https://runsignup.com/Race/MD/Ridgely/SpeedinThruTheArboretum5K"><strong>https://runsignup.com/Race/MD/Ridgely/SpeedinThruTheArboretum5K</strong></a><span style="color:rgb(0\, 0\, 0)"><strong>&nbsp\;</strong></span>
LOCATION:12610 Eveland Rd. Ridgely\, MD 21660
UID:e.212.22514
SEQUENCE:3
DTSTAMP:20260423T152339Z
URL:https://www.stmichaelsmd.org/events/details/speedin-thru-the-arboretum-22514
END:VEVENT

END:VCALENDAR
