BEGIN:VCALENDAR
VERSION:2.0
PRODID:-//ChamberMaster//Event Calendar 2.0//EN
METHOD:PUBLISH
X-PUBLISHED-TTL:P3D
REFRESH-INTERVAL:P3D
CALSCALE:GREGORIAN
BEGIN:VEVENT
DTSTART:20220702T130000Z
DTEND:20220702T200000Z
X-MICROSOFT-CDO-ALLDAYEVENT:FALSE
SUMMARY:St. Luke's Craft Fair
DESCRIPTION:St. Luke's Craft and Vendor Festival\n\n              St. Luke's Church Lawn and Parking Lot\n\n              Come see the many crafts and vendor items for sale
X-ALT-DESC;FMTTYPE=text/html:<div style="color: rgb(38\, 40\, 42)\; font-family: &quot\;Helvetica Neue&quot\;\, Helvetica\, Arial\, sans-serif\;">St. Luke&#39\;s Craft and Vendor Festival</div>\n\n<div style="color: rgb(38\, 40\, 42)\; font-family: &quot\;Helvetica Neue&quot\;\, Helvetica\, Arial\, sans-serif\;">&nbsp\; &nbsp\; &nbsp\; &nbsp\; &nbsp\; &nbsp\; &nbsp\; St. Luke&#39\;s Church Lawn and Parking Lot</div>\n\n<div style="color: rgb(38\, 40\, 42)\; font-family: &quot\;Helvetica Neue&quot\;\, Helvetica\, Arial\, sans-serif\;">&nbsp\; &nbsp\; &nbsp\; &nbsp\; &nbsp\; &nbsp\; &nbsp\; Come see the many crafts and vendor items for sale</div>\n
LOCATION:St. Luke's Church 304 S. Talbot Street
UID:e.212.21098
SEQUENCE:3
DTSTAMP:20260423T195534Z
URL:https://www.stmichaelsmd.org/events/details/st-luke-s-craft-fair-21098
END:VEVENT

END:VCALENDAR
