BEGIN:VCALENDAR
VERSION:2.0
PRODID:-//ChamberMaster//Event Calendar 2.0//EN
METHOD:PUBLISH
X-PUBLISHED-TTL:P3D
REFRESH-INTERVAL:P3D
CALSCALE:GREGORIAN
BEGIN:VEVENT
DTSTART:20220604T123000Z
DTEND:20220604T153000Z
X-MICROSOFT-CDO-ALLDAYEVENT:FALSE
SUMMARY:St. Michaels Farmers Market
DESCRIPTION:The St Michaels Farmers Market is a non profit\, community based\, producer-only\, farmers market. For over 20 years our market has provided the freshest\, locally-sourced foods\, a vibrant community gathering place for residents and visitors\, education and outreach\, economic opportunities for farmers and food producers\, and improved healthy food access for all.
X-ALT-DESC;FMTTYPE=text/html:The St Michaels Farmers Market is a non profit\, community based\, producer-only\, farmers market. For over 20 years our market has provided the freshest\, locally-sourced foods\, a vibrant community gathering place for residents and visitors\, education and outreach\, economic opportunities for farmers and food producers\, and improved healthy food access for all.
LOCATION:Located in a public parking lot at 204 S. Talbot St. in St. Michaels\, MD.
UID:e.212.21054
SEQUENCE:3
DTSTAMP:20260423T213851Z
URL:https://www.stmichaelsmd.org/events/details/st-michaels-farmers-market-06-04-2022-21054
END:VEVENT

END:VCALENDAR
