BEGIN:VCALENDAR
VERSION:2.0
PRODID:-//ChamberMaster//Event Calendar 2.0//EN
METHOD:PUBLISH
X-PUBLISHED-TTL:P3D
REFRESH-INTERVAL:P3D
CALSCALE:GREGORIAN
BEGIN:VEVENT
DTSTART:20190720T003000Z
DTEND:20190720T023000Z
X-MICROSOFT-CDO-ALLDAYEVENT:FALSE
SUMMARY:Summer Movie Nights at the CBMM
DESCRIPTION:Summer Movie Nights @ CBMM\n\nMovie begins at 8:30 pm\n\nRain date will be Saturday evening\n\nCost: $3 for non-member adults\, free for CBMM members and children 18 and under\n\nThe Chesapeake Bay Maritime Museum will be hosting a series of movie nights on Navy Point this summer.\n\nGuests should bring blankets and chairs and BYOB.\n\nIce cream and popcorn will be available for purchase.\n\nSummer Movie Night Schedule\n\nFriday\, July 12   "Night at the Museum"\n\nFriday\, July 19   "The Sandlot"\n\nFriday\, July 26   "Princess Bride"\n\nFriday\, Aug. 2   "Big"
X-ALT-DESC;FMTTYPE=text/html:<div class="tribe-events-single-event-description tribe-events-content entry-content description" style="box-sizing: border-box\; margin: 0px\; padding: 0px\; max-width: 100%\; width: 802.5px\; font-family: &quot\;Helvetica Neue&quot\;\, Helvetica\, Arial\, sans-serif\; font-size: 14px\;">\n<p style="box-sizing: border-box\; margin: 0px 0px 10px\; padding: 0px\; line-height: 1.7\;"><strong style="box-sizing: border-box\; margin: 0px\; padding: 0px\;">Summer Movie Nights @ CBMM</strong><br style="box-sizing: border-box\; margin: 0px\; padding: 0px\;" />\nMovie begins at 8:30 pm<br style="box-sizing: border-box\; margin: 0px\; padding: 0px\;" />\n<em style="box-sizing: border-box\; margin: 0px\; padding: 0px\;">Rain date will be Saturday evening</em></p>\n\n<p style="box-sizing: border-box\; margin: 0px 0px 10px\; padding: 0px\; line-height: 1.7\;"><strong style="box-sizing: border-box\; margin: 0px\; padding: 0px\;">Cost: $3 for non-member adults\, free for CBMM members and children 18 and under</strong></p>\n\n<p style="box-sizing: border-box\; margin: 0px 0px 10px\; padding: 0px\; line-height: 1.7\;">The Chesapeake Bay Maritime Museum will be hosting a series of movie nights on Navy Point this summer.<br />\nGuests should bring blankets and chairs and BYOB.<br />\nIce cream and popcorn will be available for purchase.</p>\n\n<p style="box-sizing: border-box\; margin: 0px 0px 10px\; padding: 0px\; line-height: 1.7\;"><strong style="box-sizing: border-box\; margin: 0px\; padding: 0px\;">Summer Movie Night Schedule</strong><br style="box-sizing: border-box\; margin: 0px\; padding: 0px\;" />\nFriday\, July 12 &mdash\; &ldquo\;Night at the Museum&rdquo\;<br style="box-sizing: border-box\; margin: 0px\; padding: 0px\;" />\nFriday\, July 19 &mdash\; &ldquo\;The Sandlot&rdquo\;<br style="box-sizing: border-box\; margin: 0px\; padding: 0px\;" />\nFriday\, July 26 &mdash\; &ldquo\;Princess Bride&rdquo\;<br style="box-sizing: border-box\; margin: 0px\; padding: 0px\;" />\nFriday\, Aug. 2 &mdash\; &ldquo\;Big&rdquo\;</p>\n</div>\n\n<div class="tribe-events-cal-links" style="box-sizing: border-box\; margin: 0px 0px 1.75em\; padding: 0px\; clear: both\; font-family: &quot\;Helvetica Neue&quot\;\, Helvetica\, Arial\, sans-serif\; font-size: 14px\;">&nbsp\;</div>\n
LOCATION:CBMM 213 N. Talbot St. St. Michaels\, MD 21663
UID:e.212.19343
SEQUENCE:3
DTSTAMP:20260421T174027Z
URL:https://www.stmichaelsmd.org/events/details/summer-movie-nights-at-the-cbmm-19343
END:VEVENT

END:VCALENDAR
