BEGIN:VCALENDAR
VERSION:2.0
PRODID:-//ChamberMaster//Event Calendar 2.0//EN
METHOD:PUBLISH
X-PUBLISHED-TTL:P3D
REFRESH-INTERVAL:P3D
CALSCALE:GREGORIAN
BEGIN:VEVENT
DTSTART:20230415T160000Z
DTEND:20230415T210000Z
X-MICROSOFT-CDO-ALLDAYEVENT:FALSE
SUMMARY:Taste of St. Michaels Simpatico Venue: Wine & Food Pairings Event 2023
DESCRIPTION:Join us for special Italian Tastings of Wine\, Antipasti & More for our Taste of St. Michaels Event. Purchase Wine & Food Pairing Tasting Tickets here!\n\nhttps://www.simpaticostmichaels.com/events-1/taste-of-st-michaels-simpatico-venue-wine-food-pairings-event-2023
X-ALT-DESC;FMTTYPE=text/html:<span style="color:rgb(0\, 0\, 0)\; font-family:avenir-lt-w01_35-light1475496\,avenir-lt-w05_35-light\,sans-serif\; font-size:16px">Join us for special Italian Tastings of Wine\, Antipasti &amp\; More for our Taste of St. Michaels Event. Purchase Wine &amp\; Food Pairing Tasting Tickets here!</span><br />\nhttps://www.simpaticostmichaels.com/events-1/taste-of-st-michaels-simpatico-venue-wine-food-pairings-event-2023
LOCATION:104-106 Railroad Ave St Michaels\, MD 21663
UID:e.212.23350
SEQUENCE:3
DTSTAMP:20260423T061357Z
URL:https://www.stmichaelsmd.org/events/details/taste-of-st-michaels-simpatico-venue-wine-food-pairings-event-2023-23350
END:VEVENT

END:VCALENDAR
