BEGIN:VCALENDAR
VERSION:2.0
PRODID:-//ChamberMaster//Event Calendar 2.0//EN
METHOD:PUBLISH
X-PUBLISHED-TTL:P3D
REFRESH-INTERVAL:P3D
CALSCALE:GREGORIAN
BEGIN:VEVENT
DTSTART:20250124T230000Z
DTEND:20250125T013000Z
X-MICROSOFT-CDO-ALLDAYEVENT:FALSE
SUMMARY:Taste of Tequila: Six Sensations - Don Julio & Patron
DESCRIPTION:Taste of Tequila: Six Sensations\n\nIndulge in an evening of luxury and flavor at San Miguels' Tequila Tasting Event\, featuring premium selections from Don Julio and Patr n. Savor expertly paired bites alongside these world-class tequilas in a vibrant and festive atmosphere. Perfect for tequila enthusiasts and food lovers alike\, this exclusive event promises an unforgettable experience. Don't miss out   secure your tickets today!
X-ALT-DESC;FMTTYPE=text/html:<span style="color:#FF0000"><span style="font-size:14px"><strong>Taste of Tequila: Six Sensations</strong></span></span><br />\nIndulge in an evening of luxury and flavor at San Miguels&#39\; <strong>Tequila Tasting Event</strong>\, featuring premium selections from Don Julio and Patr&oacute\;n. Savor expertly paired bites alongside these world-class tequilas in a vibrant and festive atmosphere. Perfect for tequila enthusiasts and food lovers alike\, this exclusive event promises an unforgettable experience. Don&rsquo\;t miss out &ndash\; secure your tickets today!
LOCATION:San Miguels Mexican Food 100 S. Talbot Street St. Michaels\, MD 21663 410-745-8955
UID:e.212.33704
SEQUENCE:3
DTSTAMP:20260419T134601Z
URL:https://www.stmichaelsmd.org/events/details/taste-of-tequila-six-sensations-33704
END:VEVENT

END:VCALENDAR
