BEGIN:VCALENDAR
VERSION:2.0
PRODID:-//ChamberMaster//Event Calendar 2.0//EN
METHOD:PUBLISH
X-PUBLISHED-TTL:P3D
REFRESH-INTERVAL:P3D
CALSCALE:GREGORIAN
BEGIN:VEVENT
DTSTART:20220715T210000Z
DTEND:20220716T000000Z
X-MICROSOFT-CDO-ALLDAYEVENT:FALSE
SUMMARY:Uncle Ward\, LIVE @ Foxy's!
DESCRIPTION:Bring your dancing shoes & your drinking hat for another episode of the Uncle Ward show LIVE on the patio!!
X-ALT-DESC;FMTTYPE=text/html:Bring your dancing shoes &amp\; your drinking hat for another episode of the Uncle Ward show LIVE on the patio!!
LOCATION:Foxy's Harbor Grille
UID:e.212.21716
SEQUENCE:3
DTSTAMP:20260423T195624Z
URL:https://www.stmichaelsmd.org/events/details/uncle-ward-live-foxy-s-07-15-2022-21716
END:VEVENT

END:VCALENDAR
