BEGIN:VCALENDAR
VERSION:2.0
PRODID:-//ChamberMaster//Event Calendar 2.0//EN
METHOD:PUBLISH
X-PUBLISHED-TTL:P3D
REFRESH-INTERVAL:P3D
CALSCALE:GREGORIAN
BEGIN:VEVENT
DTSTART:20241225T170000Z
DTEND:20241226T010000Z
X-MICROSOFT-CDO-ALLDAYEVENT:FALSE
SUMMARY:Wednesday Sandwich Special at The Fool's Lantern
DESCRIPTION:Wednesday Sandwich Special: The Mid-Shore: oven roasted turkey\, guacamole\, Swiss cheese\, arugula\, tomato\, and sriracha mayo on Ciabatta Asiago bread\n\nEnjoy 25% off Dine-In or Carryout Orders
X-ALT-DESC;FMTTYPE=text/html:<span style="font-size:14px"><span style="font-family:verdana"><u><strong>Wednesday Sandwich Special</strong></u></span></span><span style="font-family:verdana\; font-size:14px">: The Mid-Shore:&nbsp\;</span><span style="color:rgb(0\, 0\, 0)\; font-family:verdana\; font-size:14px">oven roasted turkey\, guacamole\, Swiss cheese\, arugula\, tomato\, and sriracha mayo on Ciabatta Asiago bread</span><br />\n<span style="font-family:verdana\; font-size:14px">Enjoy 25% off Dine-In or Carryout Orders</span>
LOCATION:The Fool's Lantern Wine & Taproom 310 S. Talbot Street St. Michaels\, MD 21663 410-888-7379
UID:e.212.33295
SEQUENCE:3
DTSTAMP:20260419T132759Z
URL:https://www.stmichaelsmd.org/events/details/wednesday-sandwich-special-at-the-fool-s-lantern-12-25-2024-33295
END:VEVENT

END:VCALENDAR
