BEGIN:VCALENDAR
VERSION:2.0
PRODID:-//ChamberMaster//Event Calendar 2.0//EN
METHOD:PUBLISH
X-PUBLISHED-TTL:P3D
REFRESH-INTERVAL:P3D
CALSCALE:GREGORIAN
BEGIN:VEVENT
DTSTART:20210717T170000Z
DTEND:20210717T203000Z
X-MICROSOFT-CDO-ALLDAYEVENT:FALSE
SUMMARY:Wine Tasting with Susan Glass\, Free Run Wine Merchants
DESCRIPTION:Join us for a wine tasting in our courtyard hosted by Susan Glass from Free Run Wine Merchants. This wine tasting will be held alongside the book launch celebration for local author Amy Schisler's new book\, The Good Wine. You will be given the choice to taste three of these four wines: 2018 Tavignano Cervidoni Rosso Piceno\, 2020 Tavignano Rosato\, 2020 Tavignano Verdicchio dei Castelli di Jesi Villa Torre\, and 2015 Tavignano Misco Riserva. Amy Schisler will be signing copies of her book during the tasting.
X-ALT-DESC;FMTTYPE=text/html:<div style="background:#eee\;border:1px solid #ccc\;padding:5px 10px\;">Join us for a wine tasting in our courtyard hosted by Susan Glass from Free Run Wine Merchants. This wine tasting will be held alongside the book launch celebration for local author Amy Schisler&#39\;s new book\, The Good Wine. You will be given the choice to taste three of these four wines: 2018 Tavignano Cervidoni Rosso Piceno\, 2020 Tavignano Rosato\, 2020 Tavignano Verdicchio dei Castelli di Jesi Villa Torre\, and 2015 Tavignano Misco Riserva. Amy Schisler will be signing copies of her book during the tasting.</div>\n
LOCATION:Simpatico Courtyard\, between 104 and 106 Railroad Ave.
UID:e.212.19850
SEQUENCE:3
DTSTAMP:20260424T141909Z
URL:https://www.stmichaelsmd.org/events/details/wine-tasting-with-susan-glass-free-run-wine-merchants-19850
END:VEVENT

END:VCALENDAR
